BEGIN:VCALENDAR
VERSION:2.0
PRODID:-//wp-events-plugin.com//7.2.3.1//EN
TZID:America/New_York
X-WR-TIMEZONE:America/New_York
BEGIN:VEVENT
UID:1@uuloudoun.org
DTSTART:20161024T230000Z
DTEND:20161025T020000Z
DTSTAMP:20161014T183758Z
URL:https://uuloudoun.org/events/loudoun-falls-social-justice/
SUMMARY:Loudoun Falls for Social Justice
DESCRIPTION:UUCL invites you toÃ‚Â LOUDOUN FALLS FOR SOCIAL JUSTICE\,
 Ã‚Â an evening under the stars in Shoes Secret GardenÃ‚Â celebra
 ting social justice activists and causes of LoudounÃ‚Â with art\, mus
 ic\, food\, and drink.\n\nJoin us for the inaugural presentation of theÃ
 ‚Â Ann Robinson Social Justice AwardÃ‚Â There will be a silent au
 ction of local artists' work benefiting social justice causes chosen by th
 e artists.Ã‚Â All tickets include appetizers and two drinks.\n\nEvent
  Page
CATEGORIES:Social Justice
LOCATION:Shoes Cup & Cork Secret Garden\, 17 North King St\, Leesburg\, VA\
 , 20175\, United States
X-APPLE-STRUCTURED-LOCATION;VALUE=URI;X-ADDRESS=17 North King St\, Leesburg
 \, VA\, 20175\, United States;X-APPLE-RADIUS=100;X-TITLE=Shoes Cup & Cork 
 Secret Garden:geo:0,0
END:VEVENT
BEGIN:VEVENT
UID:2@uuloudoun.org
DTSTART:20161031T210000Z
DTEND:20161101T000000Z
DTSTAMP:20161014T183508Z
URL:https://uuloudoun.org/events/leesburg-halloween-parade/
SUMMARY:Leesburg Halloween Parade
DESCRIPTION:UUCL will be participating in the 2016 Kiwanis Halloween Parade
  on Monday\, October 31. This parade is one of the oldest Halloween Parade
 s in the country and is a fund raiser for Loudoun Interfaith Relief. All m
 embers are invited to attend! Wear a costume and plan to meet at the Schei
 b's house at 407 Old Waterford Rd. NW\, Leesburg at 4:00pm. After a quick 
 snack\, everyone will walk over to the parade site at Ida Lee Park to get 
 organized behind our banner and vintage firetruck. Please bring a canned g
 ood donation as the entry fee to the parade. Trick-or-Treating immediately
  follows the parade if parents would like to stay together as a group to e
 njoy the festivities. For more information\, please contact Kate Savidan a
 t dre@uuloudoun.org or Elizabeth Scheib at alwayselizabeth@yahoo.com-if yo
 u can't make the 4 o'clock time feel free to join us at the parade grounds
  just off King Street at Idalee park. The parade will start up at six and 
 you can join us at the parade grounds anytime between five and six.
LOCATION:Scheib's House\, 407 Old Waterford Rd. NW\, Leesburg\, VA\, 20175\
 , United States
X-APPLE-STRUCTURED-LOCATION;VALUE=URI;X-ADDRESS=407 Old Waterford Rd. NW\, 
 Leesburg\, VA\, 20175\, United States;X-APPLE-RADIUS=100;X-TITLE=Scheib's 
 House:geo:0,0
END:VEVENT
BEGIN:VEVENT
UID:3@uuloudoun.org
DTSTART:20161105T183000Z
DTEND:20161105T213000Z
DTSTAMP:20161014T184200Z
URL:https://uuloudoun.org/events/first-saturday-fellowship-bike-ride/
SUMMARY:First Saturday Fellowship Bike Ride
DESCRIPTION:Join Graham and Natalie on a group bike ride to Purcellville. C
 hoose 20\, 12 or 8 mile options\, depending on your challenge goals. The f
 ull route will start in Leesburg and ride to Purcellville and back\, via t
 he W and OD bike trail. Riders will set off from Leesburg at 1:30pm from t
 he intersection of the bike trail and Dry Mill rd\, near Loudoun County hi
 gh school. You can alternatively join the ride at the 4 H Fairgrounds(12 m
 iles total) or at Hamilton Station(8 miles total).\n\nFor more details\, p
 lease contact Graham Copp (preferred) or Elizabeth Scheib at 505-385-6179.
END:VEVENT
BEGIN:VEVENT
UID:14@uuloudoun.org
DTSTART:20170226T161500Z
DTEND:20170226T171500Z
DTSTAMP:20170219T144736Z
URL:https://uuloudoun.org/events/uucl-youth-group/
SUMMARY:UUCL Youth Group
DESCRIPTION:
CATEGORIES:Youth
LOCATION:UUCL Sanctuary\, 20460 Gleedsville Road\, Leesburg\, VA\, 20176\, 
 United States
X-APPLE-STRUCTURED-LOCATION;VALUE=URI;X-ADDRESS=20460 Gleedsville Road\, Le
 esburg\, VA\, 20176\, United States;X-APPLE-RADIUS=100;X-TITLE=UUCL Sanctu
 ary:geo:0,0
END:VEVENT
BEGIN:VEVENT
UID:6@uuloudoun.org
DTSTART:20170226T173000Z
DTEND:20170226T200000Z
DTSTAMP:20170204T195937Z
URL:https://uuloudoun.org/events/newcomer-orientation/
SUMMARY:Newcomer Orientation
DESCRIPTION:The Membership Committee is hosting a Newcomer Orientation on S
 unday\, February 26\, 2017 from 12:30 - 3:00pm in the Sanctuary of the chu
 rch with lunch provided. The minister\, a member of the Governing Board\, 
 the Religious Education Committee and the Membership Committee will conduc
 t the session. This Orientation is a step on the path to becoming a UUCL m
 ember. Topics will include the histories of Unitarian Universalism and UUC
 L\, church policy\, organization\, activities and initiatives\, and sharin
 g of our spiritual journeys. Childcare can be arranged. Kindly RSVP to Ann
  Marie Morrealeat membership@uuloudoun.org
LOCATION:UUCL Sanctuary\, 20460 Gleedsville Road\, Leesburg\, VA\, 20176\, 
 United States
X-APPLE-STRUCTURED-LOCATION;VALUE=URI;X-ADDRESS=20460 Gleedsville Road\, Le
 esburg\, VA\, 20176\, United States;X-APPLE-RADIUS=100;X-TITLE=UUCL Sanctu
 ary:geo:0,0
END:VEVENT
BEGIN:VEVENT
UID:19@uuloudoun.org
DTSTART:20170301T000000Z
DTEND:20170301T010000Z
DTSTAMP:20170227T000557Z
URL:https://uuloudoun.org/events/finance-committee/
SUMMARY:Finance Committee
DESCRIPTION:For more information contact Chairman\, Debbie Stephenson (fina
 nce@uuloudoun.org).
LOCATION:Leesburg Wegmans\, 101 Cross Trail Blvd SE\, Leesburg\, VA\, 20175
 \, United States
X-APPLE-STRUCTURED-LOCATION;VALUE=URI;X-ADDRESS=101 Cross Trail Blvd SE\, L
 eesburg\, VA\, 20175\, United States;X-APPLE-RADIUS=100;X-TITLE=Leesburg W
 egmans:geo:0,0
END:VEVENT
BEGIN:VEVENT
UID:20@uuloudoun.org
DTSTART:20170301T003000Z
DTEND:20170301T013000Z
DTSTAMP:20170227T000716Z
URL:https://uuloudoun.org/events/communications-committee/
SUMMARY:Communications Committee
DESCRIPTION:COMMUNICATIONS COMMITTEE will meet at 7:30pm at the home of Car
 rie Nowell. For more information\, contact communications@uuloudoun.org.
END:VEVENT
BEGIN:VEVENT
UID:21@uuloudoun.org
DTSTART:20170303T000000Z
DTEND:20170303T010000Z
DTSTAMP:20170227T000836Z
URL:https://uuloudoun.org/events/membership-committee/
SUMMARY:Membership Committee
DESCRIPTION:The MEMBERSHIP COMMITTEE will meet at 7pm at the home of Ann Ma
 rie Morreale. For more information\, contact membership@uuloudoun.org.
END:VEVENT
BEGIN:VEVENT
UID:22@uuloudoun.org
DTSTART:20170305T143000Z
DTEND:20170305T173000Z
DTSTAMP:20170227T001111Z
URL:https://uuloudoun.org/events/bring-friend-sunday/
SUMMARY:BRING-A-FRIEND SUNDAY!
DESCRIPTION:The first Sunday of each month has been designated Bring-A-Frie
 nd Sunday at UUCL. So\, if you were considering bringing someone\, rather 
 than vaguely planning for "some Sunday"\, load your calendars for the firs
 t Sunday of the month. Keep the first Sunday in mind all the time. Of cour
 se\, neighbors\, friends and family are more than welcome any Sunday!Ã‚
 Â  For questions\, contact the Membership Committee (membership@uuloudou
 n.org)
LOCATION:UUCL Chapel\, 20460 Gleedsville Road\, Leesburg\, VA\, 20175\, Uni
 ted States
X-APPLE-STRUCTURED-LOCATION;VALUE=URI;X-ADDRESS=20460 Gleedsville Road\, Le
 esburg\, VA\, 20175\, United States;X-APPLE-RADIUS=100;X-TITLE=UUCL Chapel
 :geo:0,0
END:VEVENT
BEGIN:VEVENT
UID:23@uuloudoun.org
DTSTART:20170305T153000Z
DTEND:20170305T161500Z
DTSTAMP:20170227T001307Z
URL:https://uuloudoun.org/events/childrens-choir-practice/
SUMMARY:Children's Choir Practice
DESCRIPTION:Children's Choir Practice will be held from 10:30am-11:15am. Fo
 r more information contact Carol Harkrader Pine (charkpine@aol.com) or Eli
 zabeth Scheib (alwayselizabeth@yahoo.com)
LOCATION:UUCL Chapel\, 20460 Gleedsville Road\, Leesburg\, VA\, 20175\, Uni
 ted States
X-APPLE-STRUCTURED-LOCATION;VALUE=URI;X-ADDRESS=20460 Gleedsville Road\, Le
 esburg\, VA\, 20175\, United States;X-APPLE-RADIUS=100;X-TITLE=UUCL Chapel
 :geo:0,0
END:VEVENT
BEGIN:VEVENT
UID:25@uuloudoun.org
DTSTART:20170305T161500Z
DTEND:20170305T173000Z
DTSTAMP:20170227T001556Z
URL:https://uuloudoun.org/events/youth-group-service-sunday/
SUMMARY:Youth Group Service Sunday
DESCRIPTION:YOUTH GROUP SERVICE SUNDAY - all Youth Group kids are encourage
 d to come together and sit as a group for second service (11:15am). For mo
 re information\, contact DRE\, Kate Savidan (dre@uuloudoun.org)
LOCATION:UUCL Chapel\, 20460 Gleedsville Road\, Leesburg\, VA\, 20175\, Uni
 ted States
X-APPLE-STRUCTURED-LOCATION;VALUE=URI;X-ADDRESS=20460 Gleedsville Road\, Le
 esburg\, VA\, 20175\, United States;X-APPLE-RADIUS=100;X-TITLE=UUCL Chapel
 :geo:0,0
END:VEVENT
BEGIN:VEVENT
UID:18@uuloudoun.org
DTSTART:20170305T173000Z
DTEND:20170305T183000Z
DTSTAMP:20170226T235950Z
URL:https://uuloudoun.org/events/leadership-council/
SUMMARY:Leadership Council
DESCRIPTION:The Leadership Council will meet after church service at 12:30p
 m in the Sanctuary. The Leadership Council consists of current and past Co
 mmittee Chairpersons and Board Members\, meeting for the purpose of promot
 ing good communication and coordination among church leadership. This grou
 p is the core of a strong and growing church with all Committee Chairs wor
 king together\, so please plan to attend! For more info contact Jenna Korf
 f (vicepresident@uuloudoun.org).
LOCATION:UUCL Chapel\, 20460 Gleedsville Road\, Leesburg\, VA\, 20175\, Uni
 ted States
X-APPLE-STRUCTURED-LOCATION;VALUE=URI;X-ADDRESS=20460 Gleedsville Road\, Le
 esburg\, VA\, 20175\, United States;X-APPLE-RADIUS=100;X-TITLE=UUCL Chapel
 :geo:0,0
END:VEVENT
BEGIN:VEVENT
UID:26@uuloudoun.org
DTSTART:20170305T173000Z
DTEND:20170305T183000Z
DTSTAMP:20170227T001700Z
URL:https://uuloudoun.org/events/uucl-choir-practice/
SUMMARY:UUCL Choir Practice
DESCRIPTION:UUCL CHOIR PRACTICE will be held in the Sanctuary beginning at 
 12:30pm. All are welcome to attend. Come sing a song with us! For more inf
 ormation\, contact Choir Director\, Gerri Mathews (music@uuloudoun.org)
LOCATION:UUCL Chapel\, 20460 Gleedsville Road\, Leesburg\, VA\, 20175\, Uni
 ted States
X-APPLE-STRUCTURED-LOCATION;VALUE=URI;X-ADDRESS=20460 Gleedsville Road\, Le
 esburg\, VA\, 20175\, United States;X-APPLE-RADIUS=100;X-TITLE=UUCL Chapel
 :geo:0,0
END:VEVENT
BEGIN:VEVENT
UID:24@uuloudoun.org
DTSTART:20170305T173000Z
DTEND:20170305T183000Z
DTSTAMP:20170227T001448Z
URL:https://uuloudoun.org/events/ministers-minis-mini-church/
SUMMARY:Minister's Minis in the Mini-Church
DESCRIPTION:MINISTERÃ¢â‚¬â„¢S MINIS IN THE MINI-CHURCHÃ‚Â  -
  the minister will host a meeting for newcomers in the Mini-Church.Ã‚Â
   The purpose of the meeting is to help orient newcomers to UUism in gene
 ral\, and to UUCL in particular. For more information\, you can email mini
 ster@uuloudoun.org.
LOCATION:UUCL Chapel\, 20460 Gleedsville Road\, Leesburg\, VA\, 20175\, Uni
 ted States
X-APPLE-STRUCTURED-LOCATION;VALUE=URI;X-ADDRESS=20460 Gleedsville Road\, Le
 esburg\, VA\, 20175\, United States;X-APPLE-RADIUS=100;X-TITLE=UUCL Chapel
 :geo:0,0
END:VEVENT
BEGIN:VEVENT
UID:28@uuloudoun.org
DTSTART:20170309T203000Z
DTEND:20170309T220000Z
DTSTAMP:20170305T213840Z
URL:https://uuloudoun.org/events/fellowship-committee-meeting/
SUMMARY:Fellowship Committee Meeting
DESCRIPTION:The FELLOWSHIP COMMITTEE will meet at 3:30pm at the home of Kat
 herine Jacobs. For more information\, contact fellowship@uuloudoun.org
CATEGORIES:Committee Meetings
LOCATION:Kathryn Jacob's home\, NA\, NA\, United States
X-APPLE-STRUCTURED-LOCATION;VALUE=URI;X-ADDRESS=NA\, NA\, United States;X-A
 PPLE-RADIUS=100;X-TITLE=Kathryn Jacob's home:geo:0,0
END:VEVENT
BEGIN:VEVENT
UID:29@uuloudoun.org
DTSTART:20170310T000000Z
DTEND:20170310T010000Z
DTSTAMP:20170305T214322Z
URL:https://uuloudoun.org/events/social-justice-committee-meeting/
SUMMARY:Social Justice Committee Meeting
DESCRIPTION:The Social Justice Committee will meet at 7pm in the Sanctuary.
  For more information\, contact Interim ChairÃ‚Â Tamar Datan.
CATEGORIES:Committee Meetings,Social Justice
LOCATION:Unitarian Universalist Church of Loudoun\, 20460 Gleedsville Road\
 , Leesburg\, VA\, 20176\, United States
X-APPLE-STRUCTURED-LOCATION;VALUE=URI;X-ADDRESS=20460 Gleedsville Road\, Le
 esburg\, VA\, 20176\, United States;X-APPLE-RADIUS=100;X-TITLE=Unitarian U
 niversalist Church of Loudoun:geo:0,0
END:VEVENT
BEGIN:VEVENT
UID:30@uuloudoun.org
DTSTART:20170312T161500Z
DTEND:20170312T171500Z
DTSTAMP:20170305T214847Z
URL:https://uuloudoun.org/events/youth-group/
SUMMARY:Youth Group
DESCRIPTION:The Youth GroupÃ‚Â will meet at 11:15am in the Mini-Church
 . All students in Grades 6-12 are welcome to attend! For more information\
 , contact the Director of Religious Education\, Kate Savidan 
CATEGORIES:Learning,Youth
LOCATION:Unitarian Universalist Church of Loudoun\, 20460 Gleedsville Road\
 , Leesburg\, VA\, 20176\, United States
X-APPLE-STRUCTURED-LOCATION;VALUE=URI;X-ADDRESS=20460 Gleedsville Road\, Le
 esburg\, VA\, 20176\, United States;X-APPLE-RADIUS=100;X-TITLE=Unitarian U
 niversalist Church of Loudoun:geo:0,0
END:VEVENT
BEGIN:VEVENT
UID:32@uuloudoun.org
DTSTART:20170312T173000Z
DTEND:20170312T181500Z
DTSTAMP:20170305T215959Z
URL:https://uuloudoun.org/events/uucl-choir-practice-2/
SUMMARY:UUCL Choir Practice
DESCRIPTION:UUCL Choir PracticeÃ‚Â will be held at 12:30pm in the Sanc
 tuary. All are welcome to attend! If you can't make it every week\, that's
  OK! Sing when you can -- it's more about the fun than anything else!Ã‚
 Â For more information\, contact Choir Director Gerri Mathews.
CATEGORIES:Choir,Music
LOCATION:UUCL Chapel\, 20460 Gleedsville Road\, Leesburg\, VA\, 20175\, Uni
 ted States
X-APPLE-STRUCTURED-LOCATION;VALUE=URI;X-ADDRESS=20460 Gleedsville Road\, Le
 esburg\, VA\, 20175\, United States;X-APPLE-RADIUS=100;X-TITLE=UUCL Chapel
 :geo:0,0
END:VEVENT
BEGIN:VEVENT
UID:33@uuloudoun.org
DTSTART:20170318T000000Z
DTEND:20170318T020000Z
DTSTAMP:20170305T220332Z
URL:https://uuloudoun.org/events/womenspirit-2/
SUMMARY:WomenSpirit
DESCRIPTION:WomenSpirit will meet at 7pm in the RE Space. WomenSpirit is UU
 CL's women's earth-centered spirituality group\, sharing support\, wisdom\
 , tears and laughter. All women are invited to attend. Bring a rock to hel
 p cast in the circle\, and snacks or beverages to share. We normally meet 
 on the third Friday evening of the month at the church. For more info and 
 to confirm date/location of meeting\, contact Michelle McKnight atÃ‚Â
  womenspirit@uuloudoun.org.
CATEGORIES:Community,Spiritual Practices
LOCATION:UUCL Sanctuary\, 20460 Gleedsville Road\, Leesburg\, VA\, 20176\, 
 United States
X-APPLE-STRUCTURED-LOCATION;VALUE=URI;X-ADDRESS=20460 Gleedsville Road\, Le
 esburg\, VA\, 20176\, United States;X-APPLE-RADIUS=100;X-TITLE=UUCL Sanctu
 ary:geo:0,0
END:VEVENT
BEGIN:VEVENT
UID:34@uuloudoun.org
DTSTART:20170319T000000Z
DTEND:20170319T023000Z
DTSTAMP:20170305T221108Z
URL:https://uuloudoun.org/events/uu-jammers-2/
SUMMARY:UU Jammers
DESCRIPTION:UU JammersÃ‚Â will begin at 7pm at the home of Irv Dubinsk
 y and Robin Gerhart. UU Jammers is a group of UUCL friends who get togethe
 r once a month at members' homes for a very casual jam session. Bring your
  guitars\, mandolins\, fiddles\, tambourines\, drums\, kazoos\, voices\, c
 opies of chords and lyrics of songs. Snacks or beverages to share are nice
 \, but optional. For information and to confirm location\, contactÃ‚Â
  jammers@uuloudoun.org
CATEGORIES:Community,Music
LOCATION:Home of Irv Dubinsky and Robin Gerhart\, NA\, NA\, United States
X-APPLE-STRUCTURED-LOCATION;VALUE=URI;X-ADDRESS=NA\, NA\, United States;X-A
 PPLE-RADIUS=100;X-TITLE=Home of Irv Dubinsky and Robin Gerhart:geo:0,0
END:VEVENT
BEGIN:VEVENT
UID:27@uuloudoun.org
DTSTART:20170325T000000Z
DTEND:20170325T020000Z
DTSTAMP:20170305T213704Z
URL:https://uuloudoun.org/events/uucl-book-club-back-by-popular-demand/
SUMMARY:UUCL Book Club - Back by Popular Demand!
DESCRIPTION:The UUCL Book Club is starting back up and we'd love to invite 
 you\, yes YOU\, to join us!Ã‚Â The first book we have selected is: "T
 he Geography of Nowhere: The Rise and Decline of America's Man-made Landsc
 ape" by James Howard Kunstler. You can learn more about the book a buy a c
 opy here.\n\nIf you don't want to purchase the book\, check your local lib
 rary for a copy\, orÃ‚Â ask a friend so share one.\n\nAt the meeting 
 we will decide on the next book and the next meeting place. Historically\,
  the book club has been hosted by someone in our congregation and often in
 cludes a potluck!Ã‚Â This time\, please bring snacks and drinks to sh
 are. Come if you've read the book\,Ã‚Â started reading the book\, or 
 even if you haven't read a single word of it and you're just looking for s
 ome fellowship and great conversation on a Friday night.\n\nFor more infor
 mation contact Ricky KeechÃ‚Â .Ã‚Â We look forward to seeing you
  all on March 24th!
CATEGORIES:Adult,Community,Social Justice
LOCATION:UUCL Sanctuary\, 20460 Gleedsville Road\, Leesburg\, VA\, 20176\, 
 United States
X-APPLE-STRUCTURED-LOCATION;VALUE=URI;X-ADDRESS=20460 Gleedsville Road\, Le
 esburg\, VA\, 20176\, United States;X-APPLE-RADIUS=100;X-TITLE=UUCL Sanctu
 ary:geo:0,0
END:VEVENT
BEGIN:VEVENT
UID:17@uuloudoun.org
DTSTART:20170325T000000Z
DTEND:20170325T020000Z
DTSTAMP:20170220T145636Z
URL:https://uuloudoun.org/events/animals-nature-uus-bringing-principles-li
 fe/
SUMMARY:Animals\, Our Nature\, and UUs: Bringing Our Principles to Life
DESCRIPTION:A workshop to help us live compassionately and joyfully in a mu
 ltispecies world.Ã‚Â The UU First Principle Project Facilitator and C
 o-Director of One Earth\, the Rev. Dr. LoraKim Joyner\, will lead an inter
 active workshop for adults and teens. She will offer background\, tools\, 
 facilitation\, and options for UUs as individuals\, congregations\, and co
 mmunities. This is an opportunity to unearth the deep roots of interlockin
 g oppressions\, heal our sense of disconnection from life on this earth\, 
 and promote justice with ever greater vigor and joy.\n\nLinks:\n\n 	One-pa
 ge flier (PDF)\n 	Sign-up page\n 	UU Sterling Website\n
LOCATION:UU Congregation of Sterling\, 22135 Davis Drive\, Sterling\, VA\, 
 20164\, United States
X-APPLE-STRUCTURED-LOCATION;VALUE=URI;X-ADDRESS=22135 Davis Drive\, Sterlin
 g\, VA\, 20164\, United States;X-APPLE-RADIUS=100;X-TITLE=UU Congregation 
 of Sterling:geo:0,0
END:VEVENT
BEGIN:VEVENT
UID:16@uuloudoun.org
DTSTART;VALUE=DATE:20170403
DTEND;VALUE=DATE:20170406
DTSTAMP:20170219T145031Z
URL:https://uuloudoun.org/events/stand-justice-washington-dc/
SUMMARY:STAND UP FOR JUSTICE IN WASHINGTON\, DC
DESCRIPTION:The rising tide of inequality\, intolerance and racism makes it
  critical for UUs to stand up for their values. UUs for a Just Economic Co
 mmunity (UUJEC) andÃ‚Â UUs for Social Justice (UUSJ)Ã‚Â are orga
 nizing a spring conference in Washington DC to give UUs an opportunity to 
 advocate for a vision of a fair and compassionate society directly to deci
 sion makers on Capitol Hill. We cannot take a step back on progress in equ
 ality and human rights For registration information\, visit:Ã‚Â uujec
 .com/ReversingInequality
LOCATION:St. MarkÃ¢â‚¬â„¢s Episcopal Church\, 301 A St SE\, Washi
 ngton\, DC\, United States
X-APPLE-STRUCTURED-LOCATION;VALUE=URI;X-ADDRESS=301 A St SE\, Washington\, 
 DC\, United States;X-APPLE-RADIUS=100;X-TITLE=St. MarkÃ¢â‚¬â„¢s 
 Episcopal Church:geo:0,0
END:VEVENT
BEGIN:VEVENT
UID:35@uuloudoun.org
DTSTART:20170422T000000Z
DTEND:20170422T000000Z
DTSTAMP:20170421T005823Z
URL:https://uuloudoun.org/events/womens-spirit-circle/
SUMMARY:Women's Spirit Circle
DESCRIPTION:For more information\, contact Elizabeth Scheib
CATEGORIES:Spiritual Practices
END:VEVENT
BEGIN:VEVENT
UID:37@uuloudoun.org
DTSTART:20170423T173000Z
DTEND:20170423T173000Z
DTSTAMP:20170421T012056Z
URL:https://uuloudoun.org/events/earth-day-3-mile-hike/
SUMMARY:Earth Day 3-Mile Hike
DESCRIPTION:Banshee Reeks is a beautiful nature reserve less than two miles
  from the church and is a perfect place for a hike and picnic.The 3-mile h
 ike is mainly flat\, is well marked and unlikely to be muddy. It is an ide
 al hike for families and hikers of all abilities.\n\nWe will meet at the c
 hurch immediately after the second Sunday service and convoy to Banshee Re
 eks. Wear walking shoes and bring a picnic lunch to be eaten immediately b
 efore the hike. For more details\, contact Graham Copp.
CATEGORIES:Community
LOCATION:UUCL Chapel\, 20460 Gleedsville Road\, Leesburg\, VA\, 20175\, Uni
 ted States
X-APPLE-STRUCTURED-LOCATION;VALUE=URI;X-ADDRESS=20460 Gleedsville Road\, Le
 esburg\, VA\, 20175\, United States;X-APPLE-RADIUS=100;X-TITLE=UUCL Chapel
 :geo:0,0
END:VEVENT
BEGIN:VEVENT
UID:41@uuloudoun.org
DTSTART;VALUE=DATE:20170429
DTEND;VALUE=DATE:20170430
DTSTAMP:20170421T015315Z
URL:https://uuloudoun.org/events/peoples-climate-march/
SUMMARY:People's Climate March
DESCRIPTION:Rally and convergence at the Washington Monument from 3pm-5pm\n
 \nThe lineup for the march is at the east end of the Mall on 3rd St.\, S.W
 . Ã‚Â \n\nJoin the Peoples Climate Movement as we march to:\n\n 	Adva
 nce solutions to the climate crisis [that are] rooted in racial\, social a
 nd economic justice and committed to protecting front-line communities and
  workers.\n 	Protect our right to clean air\, water\, land\, healthy commu
 nities and a world at peace.\n\nA Sierra Club bus will be leaving from Lee
 sburg at 9 am. Questions? Contact Natalie Pien\,Ã‚Â Please use UUCL P
 eopleÃ¢â‚¬â„¢s Climate March in the Subject line so I donÃ¢â
 ‚¬â„¢t miss your e-mail!
CATEGORIES:Social Justice
END:VEVENT
BEGIN:VEVENT
UID:40@uuloudoun.org
DTSTART;VALUE=DATE:20170506
DTEND;VALUE=DATE:20170507
DTSTAMP:20170421T014523Z
URL:https://uuloudoun.org/events/keep-loudoun-beautiful-canoe-flotilla/
SUMMARY:Keep Loudoun Beautiful Canoe Flotilla
DESCRIPTION:This is a social justice opportunity to help clean up one of ou
 r primary waterways\, Goose Creek. Canoes and oars provided\, beginner row
 ers welcome\, ages 8 and up. If you are available and interested in joinin
 g the UUCL team\, please contact Sandy Shihadeh at 571-309-7089.
CATEGORIES:Social Justice
END:VEVENT
BEGIN:VEVENT
UID:42@uuloudoun.org
DTSTART:20170520T000000Z
DTEND:20170520T020000Z
DTSTAMP:20170507T171725Z
URL:https://uuloudoun.org/events/uucl-book-club/
SUMMARY:UUCL Book Club
DESCRIPTION:Hillbilly Elegy: A Memoir of a Family and Culture in Crisis by 
 J.D. Vance\n\nMany folks from last month have already started and finished
  this book and they are all reporting GREAT things. This promises to be a 
 VERY interesting book and could lead to some pretty interesting discussion
 s! Currently\, the plan is to meet at the church\, but if someone would li
 ke to open their home\, please let Gerri MathewsÃ‚Â or Ricky Keech kn
 ow! Come if you've read the book started reading the book\, or even if you
  haven't read a single word of it and you're just looking for some fellows
 hip and great conversation on a Friday night!\n\nWe encourage you to check
  your local library for a copy of the book or if you don't want to purchas
 e it\, or ask a friend!Ã‚Â We look forward to seeing you all on May 1
 9th!
LOCATION:UUCL Chapel\, 20460 Gleedsville Road\, Leesburg\, VA\, 20175\, Uni
 ted States
X-APPLE-STRUCTURED-LOCATION;VALUE=URI;X-ADDRESS=20460 Gleedsville Road\, Le
 esburg\, VA\, 20175\, United States;X-APPLE-RADIUS=100;X-TITLE=UUCL Chapel
 :geo:0,0
END:VEVENT
BEGIN:VEVENT
UID:36@uuloudoun.org
DTSTART:20170527T000000Z
DTEND:20170527T000000Z
DTSTAMP:20170421T010914Z
URL:https://uuloudoun.org/events/womens-spirit-circle-2/
SUMMARY:Women's Spirit Circle
DESCRIPTION:Outing to Unitarian Universalist Congregation of FrederickÃ¢
 â‚¬â„¢s labyrinth. Check upcoming What's Happening at UUCL email m
 essages or Sunday worship announcements for more details closer to event d
 ate.\n\n&nbsp\;
CATEGORIES:Spiritual Practices
LOCATION:Unitarian Universalist Congregation of Frederick\, 4880 Elmer Derr
  Road \, Frederick\, MD\, 21703\, United States
X-APPLE-STRUCTURED-LOCATION;VALUE=URI;X-ADDRESS=4880 Elmer Derr Road \, Fre
 derick\, MD\, 21703\, United States;X-APPLE-RADIUS=100;X-TITLE=Unitarian U
 niversalist Congregation of Frederick:geo:0,0
END:VEVENT
BEGIN:VEVENT
UID:38@uuloudoun.org
DTSTART:20170604T161500Z
DTEND:20170604T161500Z
DTSTAMP:20170421T012947Z
URL:https://uuloudoun.org/events/annual-congregational-meeting/
SUMMARY:Annual Congregational Meeting
DESCRIPTION:The Annual Congregational Meeting for all active church members
  will be held after the Worship Service. A potluck lunch will follow. For 
 information\, contact Governing Board President Allan Bentkofsky.
CATEGORIES:Committee Meetings
LOCATION:UUCL Chapel\, 20460 Gleedsville Road\, Leesburg\, VA\, 20175\, Uni
 ted States
X-APPLE-STRUCTURED-LOCATION;VALUE=URI;X-ADDRESS=20460 Gleedsville Road\, Le
 esburg\, VA\, 20175\, United States;X-APPLE-RADIUS=100;X-TITLE=UUCL Chapel
 :geo:0,0
END:VEVENT
BEGIN:VEVENT
UID:39@uuloudoun.org
DTSTART:20170606T140000Z
DTEND:20170606T140000Z
DTSTAMP:20170421T014134Z
URL:https://uuloudoun.org/events/6th-annual-tee-off-childrens-literacy/
SUMMARY:6th Annual Tee Off for ChildrenÃ¢â‚¬â„¢s Literacy
DESCRIPTION:This golf tournament and fundraiser benefits All Ages Read Toge
 ther (AART)\, UUCLÃ¢â‚¬â„¢s Signature Initiative. The event incl
 udes\n\n 	18 Holes\, Range\, Games &amp\; Prizes\n 	Breakfast\, Snacks\, B
 BQ Lunch and Drinks\n\n$150 per player ($50 is tax deductible)\n\nRegistra
 tion opening soon at www.allagesreadtogether.com\n\nQuestions: Contact Pet
 er Knapp at 703-622-0663.\n\nSponsorships Available
CATEGORIES:Social Justice
LOCATION:Raspberry Falls Golf and Hunt Club\, 41601 Raspberry Drive\, Leesb
 urg\, VA\, 20176\, United States
X-APPLE-STRUCTURED-LOCATION;VALUE=URI;X-ADDRESS=41601 Raspberry Drive\, Lee
 sburg\, VA\, 20176\, United States;X-APPLE-RADIUS=100;X-TITLE=Raspberry Fa
 lls Golf and Hunt Club:geo:0,0
END:VEVENT
BEGIN:VEVENT
UID:43@uuloudoun.org
DTSTART;VALUE=DATE:20250310
DTEND;VALUE=DATE:20250315
DTSTAMP:20240229T133945Z
URL:https://uuloudoun.org/events/test-event/
SUMMARY:Test event
DESCRIPTION:Test event of something in the future
END:VEVENT
END:VCALENDAR